View In:
ArcGIS JavaScript
ArcGIS Online Map Viewer
ArcGIS Earth
ArcGIS Pro
Service Description:
Map Name: Map2
Legend
All Layers and Tables
Layers:
Description:
Service Item Id: efbb618bad804a958561a2ff447f32de
Copyright Text:
Spatial Reference:
102736
(2274)
LatestVCSWkid(0)
Single Fused Map Cache: true
Tile Info:
- Height: 256.0
- Width: 256.0
- DPI: 96.0
-
Levels of Detail: 19
-
Level ID: 0
[ Start Tile, End Tile ]
- Resolution: 964761.065399107
- Scale: 1.1114069701537118E9
-
Level ID: 1
[ Start Tile, End Tile ]
- Resolution: 482380.5326995535
- Scale: 5.557034850768559E8
-
Level ID: 2
[ Start Tile, End Tile ]
- Resolution: 241190.26634977676
- Scale: 2.7785174253842795E8
-
Level ID: 3
[ Start Tile, End Tile ]
- Resolution: 120595.13317488838
- Scale: 1.3892587126921397E8
-
Level ID: 4
[ Start Tile, End Tile ]
- Resolution: 60297.56658744419
- Scale: 6.946293563460699E7
-
Level ID: 5
[ Start Tile, End Tile ]
- Resolution: 30148.783293722096
- Scale: 3.473146781730349E7
-
Level ID: 6
[ Start Tile, End Tile ]
- Resolution: 15074.391646861048
- Scale: 1.7365733908651747E7
-
Level ID: 7
[ Start Tile, End Tile ]
- Resolution: 7537.195823430524
- Scale: 8682866.954325873
-
Level ID: 8
[ Start Tile, End Tile ]
- Resolution: 3768.597911715262
- Scale: 4341433.477162937
-
Level ID: 9
[ Start Tile, End Tile ]
- Resolution: 1884.298955857631
- Scale: 2170716.7385814684
-
Level ID: 10
[ Start Tile, End Tile ]
- Resolution: 942.1494779288155
- Scale: 1085358.3692907342
-
Level ID: 11
[ Start Tile, End Tile ]
- Resolution: 471.07473896440774
- Scale: 542679.1846453671
-
Level ID: 12
[ Start Tile, End Tile ]
- Resolution: 235.53736948220387
- Scale: 271339.59232268354
-
Level ID: 13
[ Start Tile, End Tile ]
- Resolution: 117.76868474110194
- Scale: 135669.79616134177
-
Level ID: 14
[ Start Tile, End Tile ]
- Resolution: 58.88434237055097
- Scale: 67834.89808067089
-
Level ID: 15
[ Start Tile, End Tile ]
- Resolution: 29.442171185275484
- Scale: 33917.44904033544
-
Level ID: 16
[ Start Tile, End Tile ]
- Resolution: 14.721085592637742
- Scale: 16958.72452016772
-
Level ID: 17
[ Start Tile, End Tile ]
- Resolution: 7.360542796318871
- Scale: 8479.36226008386
-
Level ID: 18
[ Start Tile, End Tile ]
- Resolution: 3.6802713981594355
- Scale: 4239.68113004193
- Format: PNG
- Compression Quality: 0.0
- Origin: X: -1.215209163710857E8
Y: 1.076755468541978E8
- Spatial Reference: 102736
(2274)
LatestVCSWkid(0)
Storage Info:
- Storage Format: esriMapCacheStorageModeCompactV2
- Packet Size: 128
Initial Extent:
XMin: 3026802.1620503687
YMin: 741401.1903119328
XMax: 3070669.82569533
YMax: 753419.1465670381
Spatial Reference: 102736
(2274)
LatestVCSWkid(0)
Full Extent:
XMin: 2981371.054730739
YMin: 737410.1453762639
XMax: 3136677.6222865377
YMax: 796254.893345018
Spatial Reference: 102736
(2274)
LatestVCSWkid(0)
Units: esriFeet
Supported Image Format Types: PNG32,PNG24,PNG,JPG,DIB,TIFF,EMF,PS,PDF,GIF,SVG,SVGZ,BMP
Document Info:
Title: Map2
Author:
Comments:
Subject:
Category:
Keywords:
AntialiasingMode: None
TextAntialiasingMode: Force
Supports Dynamic Layers: false
MaxRecordCount: 1000
MaxSelectionCount: 0
MaxImageHeight: 4096
MaxImageWidth: 4096
Supported Query Formats: JSON, geoJSON, PBF
Supports Query Data Elements: true
Min Scale: 271339.59232268354
Max Scale: 8479.36226008386
Min LOD: 12
Max LOD: 17
Supports Datum Transformation: true
Child Resources:
Info
Supported Operations:
QueryLegends
Return Updates